Package: sizepower Version: 1.76.0 Command: /Library/Frameworks/R.framework/Resources/bin/R CMD check --install=check:sizepower.install-out.txt --library=/Library/Frameworks/R.framework/Resources/library --no-vignettes --timings sizepower_1.76.0.tar.gz StartedAt: 2025-02-01 09:47:54 -0500 (Sat, 01 Feb 2025) EndedAt: 2025-02-01 09:48:15 -0500 (Sat, 01 Feb 2025) EllapsedTime: 21.2 seconds RetCode: 0 Status: OK CheckDir: sizepower.Rcheck Warnings: 0