Package: sizepower Version: 1.76.0 Command: /Library/Frameworks/R.framework/Resources/bin/R CMD INSTALL sizepower StartedAt: 2025-01-30 15:04:11 -0500 (Thu, 30 Jan 2025) EndedAt: 2025-01-30 15:04:14 -0500 (Thu, 30 Jan 2025) EllapsedTime: 2.5 seconds RetCode: 0 Status: OK