Package: sizepower Version: 1.76.0 Command: /Library/Frameworks/R.framework/Resources/bin/R CMD check --install=check:sizepower.install-out.txt --library=/Library/Frameworks/R.framework/Resources/library --no-vignettes --timings sizepower_1.76.0.tar.gz StartedAt: 2025-01-31 10:15:51 -0500 (Fri, 31 Jan 2025) EndedAt: 2025-01-31 10:16:25 -0500 (Fri, 31 Jan 2025) EllapsedTime: 34.0 seconds RetCode: 0 Status: OK CheckDir: sizepower.Rcheck Warnings: 0