Package: sizepower Version: 1.76.0 Command: /home/biocbuild/R/R/bin/R CMD INSTALL sizepower StartedAt: 2025-01-30 20:05:59 -0000 (Thu, 30 Jan 2025) EndedAt: 2025-01-30 20:06:20 -0000 (Thu, 30 Jan 2025) EllapsedTime: 21.1 seconds RetCode: 0 Status: OK