Package: sketchR Version: 1.2.0 Command: rm -rf sketchR.buildbin-libdir && mkdir sketchR.buildbin-libdir && /Users/biocbuild/BBS/utils/build-universal.sh sketchR_1.2.0.tar.gz /Library/Frameworks/R.framework/Resources/bin/R sketchR.buildbin-libdir StartedAt: 2025-02-05 17:53:13 -0500 (Wed, 05 Feb 2025) EndedAt: 2025-02-05 17:53:35 -0500 (Wed, 05 Feb 2025) EllapsedTime: 21.8 seconds RetCode: 0 Status: OK PackageFile: sketchR_1.2.0.tgz PackageFileSize: 1.153 MiB