Package: sketchR Version: 1.2.0 Command: /Library/Frameworks/R.framework/Resources/bin/R CMD build --keep-empty-dirs --no-resave-data sketchR StartedAt: 2025-02-04 08:32:53 -0500 (Tue, 04 Feb 2025) EndedAt: 2025-02-04 08:35:40 -0500 (Tue, 04 Feb 2025) EllapsedTime: 166.5 seconds RetCode: 0 Status: OK PackageFile: sketchR_1.2.0.tar.gz PackageFileSize: 1.126 MiB