##############################################################################
##############################################################################
###
### Running command:
###
###   rm -rf sketchR.buildbin-libdir && mkdir sketchR.buildbin-libdir && /Users/biocbuild/BBS/utils/build-universal.sh sketchR_1.2.0.tar.gz /Library/Frameworks/R.framework/Resources/bin/R sketchR.buildbin-libdir
###
##############################################################################
##############################################################################


>>>>>>> 
>>>>>>> INSTALLATION WITH 'R CMD INSTALL --preclean --no-multiarch --library=sketchR.buildbin-libdir sketchR_1.2.0.tar.gz'
>>>>>>> 

* installing *source* package ‘sketchR’ ...
** using non-staged installation via StagedInstall field
** R
** inst
** byte-compile and prepare package for lazy loading
** help
*** installing help indices
*** copying figures
** building package indices
** installing vignettes
** testing if installed package can be loaded
* DONE (sketchR)