Package: sketchR
Version: 1.2.0
Command: /home/biocbuild/R/R/bin/R CMD check --install=check:sketchR.install-out.txt --library=/home/biocbuild/R/R/site-library --no-vignettes --timings sketchR_1.2.0.tar.gz
StartedAt: 2025-02-18 11:16:34 -0000 (Tue, 18 Feb 2025)
EndedAt: 2025-02-18 11:19:25 -0000 (Tue, 18 Feb 2025)
EllapsedTime: 171.2 seconds
RetCode: 0
Status: OK
CheckDir: sketchR.Rcheck
Warnings: 0