Package: skewr Version: 1.38.0 Command: /Library/Frameworks/R.framework/Resources/bin/R CMD build --keep-empty-dirs --no-resave-data skewr StartedAt: 2025-01-31 08:20:36 -0500 (Fri, 31 Jan 2025) EndedAt: 2025-01-31 08:23:35 -0500 (Fri, 31 Jan 2025) EllapsedTime: 179.5 seconds RetCode: 0 Status: OK PackageFile: skewr_1.38.0.tar.gz PackageFileSize: 767.2 KiB