Package: skewr Version: 1.38.0 Command: rm -rf skewr.buildbin-libdir && mkdir skewr.buildbin-libdir && /Users/biocbuild/BBS/utils/build-universal.sh skewr_1.38.0.tar.gz /Library/Frameworks/R.framework/Resources/bin/R skewr.buildbin-libdir StartedAt: 2024-11-09 17:12:58 -0500 (Sat, 09 Nov 2024) EndedAt: 2024-11-09 17:13:19 -0500 (Sat, 09 Nov 2024) EllapsedTime: 21.4 seconds RetCode: 0 Status: OK PackageFile: skewr_1.38.0.tgz PackageFileSize: 759 KiB