Package: skewr Version: 1.38.0 Command: rm -rf skewr.buildbin-libdir && mkdir skewr.buildbin-libdir && /Users/biocbuild/BBS/utils/build-universal.sh skewr_1.38.0.tar.gz /Library/Frameworks/R.framework/Resources/bin/R skewr.buildbin-libdir StartedAt: 2025-01-31 13:44:27 -0500 (Fri, 31 Jan 2025) EndedAt: 2025-01-31 13:46:13 -0500 (Fri, 31 Jan 2025) EllapsedTime: 106.7 seconds RetCode: 0 Status: OK PackageFile: skewr_1.38.0.tgz PackageFileSize: 760.3 KiB