Package: skewr Version: 1.38.0 Command: chmod a+r skewr -R && F:\biocbuild\bbs-3.20-bioc\R\bin\R.exe CMD build --keep-empty-dirs --no-resave-data skewr StartedAt: 2025-01-30 21:57:00 -0500 (Thu, 30 Jan 2025) EndedAt: 2025-01-30 22:00:57 -0500 (Thu, 30 Jan 2025) EllapsedTime: 236.9 seconds RetCode: 0 Status: OK PackageFile: skewr_1.38.0.tar.gz PackageFileSize: 399.5 KiB