Package: skewr Version: 1.38.0 Command: /home/biocbuild/R/R/bin/R CMD build --keep-empty-dirs --no-resave-data skewr StartedAt: 2025-02-04 03:05:42 -0000 (Tue, 04 Feb 2025) EndedAt: 2025-02-04 03:08:39 -0000 (Tue, 04 Feb 2025) EllapsedTime: 177.3 seconds RetCode: 0 Status: OK PackageFile: skewr_1.38.0.tar.gz PackageFileSize: 532.5 KiB