Package: skewr Version: 1.38.0 Command: /home/biocbuild/R/R/bin/R CMD check --install=check:skewr.install-out.txt --library=/home/biocbuild/R/R/site-library --no-vignettes --timings skewr_1.38.0.tar.gz StartedAt: 2025-02-04 11:11:57 -0000 (Tue, 04 Feb 2025) EndedAt: 2025-02-04 11:18:21 -0000 (Tue, 04 Feb 2025) EllapsedTime: 383.5 seconds RetCode: 0 Status: OK CheckDir: skewr.Rcheck Warnings: 0