Package: slingshot Version: 2.14.0 Command: /Library/Frameworks/R.framework/Resources/bin/R CMD check --install=check:slingshot.install-out.txt --library=/Library/Frameworks/R.framework/Resources/library --no-vignettes --timings slingshot_2.14.0.tar.gz StartedAt: 2025-02-05 10:39:01 -0500 (Wed, 05 Feb 2025) EndedAt: 2025-02-05 10:42:59 -0500 (Wed, 05 Feb 2025) EllapsedTime: 238.3 seconds RetCode: 0 Status: OK CheckDir: slingshot.Rcheck Warnings: 0