Package: slingshot Version: 2.14.0 Command: /Library/Frameworks/R.framework/Resources/bin/R CMD build --keep-empty-dirs --no-resave-data slingshot StartedAt: 2025-02-03 22:27:22 -0500 (Mon, 03 Feb 2025) EndedAt: 2025-02-03 22:29:32 -0500 (Mon, 03 Feb 2025) EllapsedTime: 130.1 seconds RetCode: 0 Status: OK PackageFile: slingshot_2.14.0.tar.gz PackageFileSize: 2.263 MiB