Package: slingshot
Version: 2.14.0
Command: /home/biocbuild/R/R/bin/R CMD INSTALL slingshot
StartedAt: 2025-02-17 20:30:52 -0000 (Mon, 17 Feb 2025)
EndedAt: 2025-02-17 20:31:24 -0000 (Mon, 17 Feb 2025)
EllapsedTime: 31.4 seconds
RetCode: 0
Status: OK