Package: snifter Version: 1.16.0 Command: /home/biocbuild/bbs-3.20-bioc/R/bin/R CMD INSTALL snifter StartedAt: 2025-02-03 15:18:06 -0500 (Mon, 03 Feb 2025) EndedAt: 2025-02-03 15:18:17 -0500 (Mon, 03 Feb 2025) EllapsedTime: 10.4 seconds RetCode: 0 Status: OK