Package: snpStats Version: 1.56.0 Command: /Library/Frameworks/R.framework/Resources/bin/R CMD build --keep-empty-dirs --no-resave-data snpStats StartedAt: 2025-02-04 08:39:20 -0500 (Tue, 04 Feb 2025) EndedAt: 2025-02-04 08:41:04 -0500 (Tue, 04 Feb 2025) EllapsedTime: 104.5 seconds RetCode: 0 Status: OK PackageFile: snpStats_1.56.0.tar.gz PackageFileSize: 7.728 MiB