Package: snpStats Version: 1.56.0 Command: /Library/Frameworks/R.framework/Resources/bin/R CMD build --keep-empty-dirs --no-resave-data snpStats StartedAt: 2024-11-08 19:12:27 -0500 (Fri, 08 Nov 2024) EndedAt: 2024-11-08 19:13:00 -0500 (Fri, 08 Nov 2024) EllapsedTime: 32.3 seconds RetCode: 0 Status: OK PackageFile: snpStats_1.56.0.tar.gz PackageFileSize: 7.732 MiB