Package: snpStats Version: 1.56.0 Command: /Library/Frameworks/R.framework/Resources/bin/R CMD build --keep-empty-dirs --no-resave-data snpStats StartedAt: 2025-02-17 22:32:08 -0500 (Mon, 17 Feb 2025) EndedAt: 2025-02-17 22:34:39 -0500 (Mon, 17 Feb 2025) EllapsedTime: 150.2 seconds RetCode: 0 Status: OK PackageFile: snpStats_1.56.0.tar.gz PackageFileSize: 7.737 <A href="http://en.wikipedia.org/wiki/MiB" target="_blank">MiB</A>