Package: snpStats Version: 1.56.0 Command: chmod a+r snpStats -R && F:\biocbuild\bbs-3.20-bioc\R\bin\R.exe CMD build --keep-empty-dirs --no-resave-data snpStats StartedAt: 2025-02-03 22:15:53 -0500 (Mon, 03 Feb 2025) EndedAt: 2025-02-03 22:18:35 -0500 (Mon, 03 Feb 2025) EllapsedTime: 162.1 seconds RetCode: 0 Status: OK PackageFile: snpStats_1.56.0.tar.gz PackageFileSize: 6.752 MiB