Package: snpStats Version: 1.56.0 Command: F:\biocbuild\bbs-3.20-bioc\R\bin\R.exe CMD check --no-multiarch --install=check:snpStats.install-out.txt --library=F:\biocbuild\bbs-3.20-bioc\R\library --no-vignettes --timings snpStats_1.56.0.tar.gz StartedAt: 2025-02-04 06:28:34 -0500 (Tue, 04 Feb 2025) EndedAt: 2025-02-04 06:30:06 -0500 (Tue, 04 Feb 2025) EllapsedTime: 91.4 seconds RetCode: 0 Status: WARNINGS CheckDir: snpStats.Rcheck Warnings: 1