Package: snpStats Version: 1.56.0 Command: /home/biocbuild/R/R/bin/R CMD build --keep-empty-dirs --no-resave-data snpStats StartedAt: 2025-02-04 03:08:12 -0000 (Tue, 04 Feb 2025) EndedAt: 2025-02-04 03:09:57 -0000 (Tue, 04 Feb 2025) EllapsedTime: 105.2 seconds RetCode: 0 Status: OK PackageFile: snpStats_1.56.0.tar.gz PackageFileSize: 7.661 MiB