Package: soGGi Version: 1.38.0 Command: /Library/Frameworks/R.framework/Resources/bin/R CMD build --keep-empty-dirs --no-resave-data soGGi StartedAt: 2025-02-03 22:29:29 -0500 (Mon, 03 Feb 2025) EndedAt: 2025-02-03 22:32:25 -0500 (Mon, 03 Feb 2025) EllapsedTime: 175.8 seconds RetCode: 0 Status: OK PackageFile: soGGi_1.38.0.tar.gz PackageFileSize: 3.318 MiB