Package: soGGi Version: 1.38.0 Command: /Library/Frameworks/R.framework/Resources/bin/R CMD check --install=check:soGGi.install-out.txt --library=/Library/Frameworks/R.framework/Resources/library --no-vignettes --timings soGGi_1.38.0.tar.gz StartedAt: 2025-02-04 10:26:29 -0500 (Tue, 04 Feb 2025) EndedAt: 2025-02-04 10:36:17 -0500 (Tue, 04 Feb 2025) EllapsedTime: 587.5 seconds RetCode: 0 Status: OK CheckDir: soGGi.Rcheck Warnings: 0