Package: soGGi Version: 1.38.0 Command: /Library/Frameworks/R.framework/Resources/bin/R CMD INSTALL soGGi StartedAt: 2025-02-03 15:50:54 -0500 (Mon, 03 Feb 2025) EndedAt: 2025-02-03 15:52:21 -0500 (Mon, 03 Feb 2025) EllapsedTime: 86.7 seconds RetCode: 0 Status: OK