Package: soGGi Version: 1.38.0 Command: chmod a+r soGGi -R && F:\biocbuild\bbs-3.20-bioc\R\bin\R.exe CMD build --keep-empty-dirs --no-resave-data soGGi StartedAt: 2025-02-03 22:16:01 -0500 (Mon, 03 Feb 2025) EndedAt: 2025-02-03 22:17:44 -0500 (Mon, 03 Feb 2025) EllapsedTime: 103.5 seconds RetCode: 0 Status: OK PackageFile: soGGi_1.38.0.tar.gz PackageFileSize: 3.053 MiB