Package: soGGi Version: 1.38.0 Command: /home/biocbuild/R/R/bin/R CMD build --keep-empty-dirs --no-resave-data soGGi StartedAt: 2025-02-04 03:08:22 -0000 (Tue, 04 Feb 2025) EndedAt: 2025-02-04 03:10:23 -0000 (Tue, 04 Feb 2025) EllapsedTime: 121.2 seconds RetCode: 0 Status: OK PackageFile: soGGi_1.38.0.tar.gz PackageFileSize: 3.16 MiB