Package: sparrow Version: 1.12.0 Command: /Library/Frameworks/R.framework/Resources/bin/R CMD build --keep-empty-dirs --no-resave-data sparrow StartedAt: 2025-02-03 22:30:27 -0500 (Mon, 03 Feb 2025) EndedAt: 2025-02-03 22:37:05 -0500 (Mon, 03 Feb 2025) EllapsedTime: 397.7 seconds RetCode: 0 Status: OK PackageFile: sparrow_1.12.0.tar.gz PackageFileSize: 4.213 MiB