Package: sparrow
Version: 1.11.0
Command: rm -rf sparrow.buildbin-libdir && mkdir sparrow.buildbin-libdir && F:\biocbuild\bbs-3.20-bioc\R\bin\R.exe CMD INSTALL --build --library=sparrow.buildbin-libdir sparrow_1.11.0.tar.gz
StartedAt: 2024-06-10 15:12:28 -0400 (Mon, 10 Jun 2024)
EndedAt: 2024-06-10 15:14:44 -0400 (Mon, 10 Jun 2024)
EllapsedTime: 135.3 seconds
RetCode: 0
Status: OK
PackageFile: sparrow_1.11.0.zip
PackageFileSize: 4.275 <A href="http://en.wikipedia.org/wiki/MiB" target="_blank">MiB</A>