Package: sparrow Version: 1.12.0 Command: /home/biocbuild/R/R/bin/R CMD build --keep-empty-dirs --no-resave-data sparrow StartedAt: 2025-02-04 03:09:36 -0000 (Tue, 04 Feb 2025) EndedAt: 2025-02-04 03:14:32 -0000 (Tue, 04 Feb 2025) EllapsedTime: 296.4 seconds RetCode: 0 Status: OK PackageFile: sparrow_1.12.0.tar.gz PackageFileSize: 3.875 MiB