Package: sparrow Version: 1.12.0 Command: /home/biocbuild/R/R/bin/R CMD check --install=check:sparrow.install-out.txt --library=/home/biocbuild/R/R/site-library --no-vignettes --timings sparrow_1.12.0.tar.gz StartedAt: 2025-02-04 11:16:11 -0000 (Tue, 04 Feb 2025) EndedAt: 2025-02-04 11:56:11 -0000 (Tue, 04 Feb 2025) EllapsedTime: 2400.2 seconds RetCode: None Status: TIMEOUT CheckDir: sparrow.Rcheck Warnings: NA