Package: sparrow Version: 1.12.0 Command: /home/biocbuild/R/R/bin/R CMD INSTALL sparrow StartedAt: 2025-02-03 20:57:44 -0000 (Mon, 03 Feb 2025) EndedAt: 2025-02-03 20:58:23 -0000 (Mon, 03 Feb 2025) EllapsedTime: 39.3 seconds RetCode: 0 Status: OK