Package: sparseMatrixStats Version: 1.18.0 Command: /Library/Frameworks/R.framework/Resources/bin/R CMD build --keep-empty-dirs --no-resave-data sparseMatrixStats StartedAt: 2025-02-04 08:45:14 -0500 (Tue, 04 Feb 2025) EndedAt: 2025-02-04 08:45:51 -0500 (Tue, 04 Feb 2025) EllapsedTime: 36.7 seconds RetCode: 0 Status: OK PackageFile: sparseMatrixStats_1.18.0.tar.gz PackageFileSize: 687.6 KiB