Package: sparseMatrixStats Version: 1.18.0 Command: /home/biocbuild/bbs-3.20-bioc/R/bin/R CMD check --install=check:sparseMatrixStats.install-out.txt --library=/home/biocbuild/bbs-3.20-bioc/R/site-library --timings sparseMatrixStats_1.18.0.tar.gz StartedAt: 2025-02-04 02:42:43 -0500 (Tue, 04 Feb 2025) EndedAt: 2025-02-04 02:43:39 -0500 (Tue, 04 Feb 2025) EllapsedTime: 56.1 seconds RetCode: 0 Status: OK CheckDir: sparseMatrixStats.Rcheck Warnings: 0