Package: sparseMatrixStats Version: 1.18.0 Command: F:\biocbuild\bbs-3.20-bioc\R\bin\R.exe CMD INSTALL sparseMatrixStats StartedAt: 2025-02-03 15:38:20 -0500 (Mon, 03 Feb 2025) EndedAt: 2025-02-03 15:45:03 -0500 (Mon, 03 Feb 2025) EllapsedTime: 402.5 seconds RetCode: 0 Status: OK