Package: sparsenetgls Version: 1.24.0 Command: rm -rf sparsenetgls.buildbin-libdir && mkdir sparsenetgls.buildbin-libdir && /Users/biocbuild/BBS/utils/build-universal.sh sparsenetgls_1.24.0.tar.gz /Library/Frameworks/R.framework/Resources/bin/R sparsenetgls.buildbin-libdir StartedAt: 2025-02-05 17:55:35 -0500 (Wed, 05 Feb 2025) EndedAt: 2025-02-05 17:55:44 -0500 (Wed, 05 Feb 2025) EllapsedTime: 9.2 seconds RetCode: 0 Status: OK PackageFile: sparsenetgls_1.24.0.tgz PackageFileSize: 663.9 KiB