Package: sparsenetgls
Version: 1.24.0
Command: /home/biocbuild/R/R/bin/R CMD INSTALL sparsenetgls
StartedAt: 2024-11-19 21:12:00 -0000 (Tue, 19 Nov 2024)
EndedAt: 2024-11-19 21:12:09 -0000 (Tue, 19 Nov 2024)
EllapsedTime: 8.9 seconds
RetCode: 0
Status: OK