Package: spatialDE Version: 1.12.0 Command: /Library/Frameworks/R.framework/Resources/bin/R CMD check --install=check:spatialDE.install-out.txt --library=/Library/Frameworks/R.framework/Resources/library --no-vignettes --timings spatialDE_1.12.0.tar.gz StartedAt: 2025-02-04 10:31:26 -0500 (Tue, 04 Feb 2025) EndedAt: 2025-02-04 10:41:19 -0500 (Tue, 04 Feb 2025) EllapsedTime: 592.4 seconds RetCode: 0 Status: OK CheckDir: spatialDE.Rcheck Warnings: 0