Package: spatialDE Version: 1.12.0 Command: /Library/Frameworks/R.framework/Resources/bin/R CMD INSTALL spatialDE StartedAt: 2025-02-03 15:36:09 -0500 (Mon, 03 Feb 2025) EndedAt: 2025-02-03 15:36:55 -0500 (Mon, 03 Feb 2025) EllapsedTime: 45.7 seconds RetCode: 0 Status: OK