Package: spatialDE Version: 1.12.0 Command: /home/biocbuild/bbs-3.20-bioc/R/bin/R CMD build --keep-empty-dirs --no-resave-data --md5 spatialDE StartedAt: 2025-02-03 19:25:32 -0500 (Mon, 03 Feb 2025) EndedAt: 2025-02-03 19:27:44 -0500 (Mon, 03 Feb 2025) EllapsedTime: 132.1 seconds RetCode: 0 Status: OK PackageFile: spatialDE_1.12.0.tar.gz PackageFileSize: 3.714 MiB