##############################################################################
##############################################################################
###
### Running command:
###
###   rm -rf spatialDE.buildbin-libdir && mkdir spatialDE.buildbin-libdir && C:\Users\biocbuild\bbs-3.20-bioc\R\bin\R.exe CMD INSTALL --build --library=spatialDE.buildbin-libdir spatialDE_1.11.0.tar.gz
###
##############################################################################
##############################################################################


* installing *source* package 'spatialDE' ...
** using non-staged installation via StagedInstall field
** R
** data
** inst
** byte-compile and prepare package for lazy loading
** help
*** installing help indices
** building package indices
** installing vignettes
** testing if installed package can be loaded
* MD5 sums
packaged installation of 'spatialDE' as spatialDE_1.11.0.zip
* DONE (spatialDE)