Package: spatialHeatmap Version: 2.12.1 Command: /Library/Frameworks/R.framework/Resources/bin/R CMD build --keep-empty-dirs --no-resave-data spatialHeatmap StartedAt: 2025-01-31 08:38:34 -0500 (Fri, 31 Jan 2025) EndedAt: 2025-01-31 08:45:10 -0500 (Fri, 31 Jan 2025) EllapsedTime: 395.9 seconds RetCode: 0 Status: OK PackageFile: spatialHeatmap_2.12.1.tar.gz PackageFileSize: 32.43 MiB