Package: spatialHeatmap Version: 2.12.1 Command: /Library/Frameworks/R.framework/Resources/bin/R CMD INSTALL spatialHeatmap StartedAt: 2025-01-30 17:59:42 -0500 (Thu, 30 Jan 2025) EndedAt: 2025-01-30 18:00:30 -0500 (Thu, 30 Jan 2025) EllapsedTime: 47.7 seconds RetCode: 0 Status: OK