Package: spatialHeatmap Version: 2.12.1 Command: rm -rf spatialHeatmap.buildbin-libdir && mkdir spatialHeatmap.buildbin-libdir && /Users/biocbuild/BBS/utils/build-universal.sh spatialHeatmap_2.12.1.tar.gz /Library/Frameworks/R.framework/Resources/bin/R spatialHeatmap.buildbin-libdir StartedAt: 2025-01-31 13:46:08 -0500 (Fri, 31 Jan 2025) EndedAt: 2025-01-31 13:47:58 -0500 (Fri, 31 Jan 2025) EllapsedTime: 110.1 seconds RetCode: 0 Status: OK PackageFile: spatialHeatmap_2.12.1.tgz PackageFileSize: 32.16 MiB