Package: spatialHeatmap Version: 2.12.1 Command: /Library/Frameworks/R.framework/Resources/bin/R CMD build --keep-empty-dirs --no-resave-data spatialHeatmap StartedAt: 2025-01-30 23:04:45 -0500 (Thu, 30 Jan 2025) EndedAt: 2025-01-30 23:14:24 -0500 (Thu, 30 Jan 2025) EllapsedTime: 579.7 seconds RetCode: 0 Status: OK PackageFile: spatialHeatmap_2.12.1.tar.gz PackageFileSize: 32.41 MiB