Package: spatialHeatmap Version: 2.12.1 Command: /Library/Frameworks/R.framework/Resources/bin/R CMD INSTALL spatialHeatmap StartedAt: 2025-01-30 16:36:09 -0500 (Thu, 30 Jan 2025) EndedAt: 2025-01-30 16:37:46 -0500 (Thu, 30 Jan 2025) EllapsedTime: 96.6 seconds RetCode: 0 Status: OK