Package: spatialHeatmap Version: 2.12.1 Command: /home/biocbuild/bbs-3.20-bioc/R/bin/R CMD INSTALL spatialHeatmap StartedAt: 2025-01-30 15:56:07 -0500 (Thu, 30 Jan 2025) EndedAt: 2025-01-30 15:56:53 -0500 (Thu, 30 Jan 2025) EllapsedTime: 45.6 seconds RetCode: 0 Status: OK