Package: spatialHeatmap Version: 2.12.1 Command: chmod a+r spatialHeatmap -R && F:\biocbuild\bbs-3.20-bioc\R\bin\R.exe CMD build --keep-empty-dirs --no-resave-data spatialHeatmap StartedAt: 2025-01-30 22:01:39 -0500 (Thu, 30 Jan 2025) EndedAt: 2025-01-30 22:12:17 -0500 (Thu, 30 Jan 2025) EllapsedTime: 638.5 seconds RetCode: 0 Status: OK PackageFile: spatialHeatmap_2.12.1.tar.gz PackageFileSize: 27.03 MiB